BEGIN:VCALENDAR
VERSION:2.0
PRODID:-//El Museo del Barrio - ECPv6.15.17.1//NONSGML v1.0//EN
CALSCALE:GREGORIAN
METHOD:PUBLISH
X-WR-CALNAME:El Museo del Barrio
X-ORIGINAL-URL:https://elmuseo.org
X-WR-CALDESC:Events for El Museo del Barrio
REFRESH-INTERVAL;VALUE=DURATION:PT1H
X-Robots-Tag:noindex
X-PUBLISHED-TTL:PT1H
BEGIN:VTIMEZONE
TZID:America/New_York
BEGIN:DAYLIGHT
TZOFFSETFROM:-0500
TZOFFSETTO:-0400
TZNAME:EDT
DTSTART:20240310T070000
END:DAYLIGHT
BEGIN:STANDARD
TZOFFSETFROM:-0400
TZOFFSETTO:-0500
TZNAME:EST
DTSTART:20241103T060000
END:STANDARD
BEGIN:DAYLIGHT
TZOFFSETFROM:-0500
TZOFFSETTO:-0400
TZNAME:EDT
DTSTART:20250309T070000
END:DAYLIGHT
BEGIN:STANDARD
TZOFFSETFROM:-0400
TZOFFSETTO:-0500
TZNAME:EST
DTSTART:20251102T060000
END:STANDARD
BEGIN:DAYLIGHT
TZOFFSETFROM:-0500
TZOFFSETTO:-0400
TZNAME:EDT
DTSTART:20260308T070000
END:DAYLIGHT
BEGIN:STANDARD
TZOFFSETFROM:-0400
TZOFFSETTO:-0500
TZNAME:EST
DTSTART:20261101T060000
END:STANDARD
END:VTIMEZONE
BEGIN:VEVENT
DTSTART;TZID=America/New_York:20250920T180000
DTEND;TZID=America/New_York:20250920T230000
DTSTAMP:20260422T125426
CREATED:20250918T165522Z
LAST-MODIFIED:20250918T165617Z
UID:52572-1758391200-1758409200@elmuseo.org
SUMMARY:Bad Bunny’s “No Me Quiero Ir de Aquí” Watch Party
DESCRIPTION:El Museo del Barrio in collaboration with the Caribbean Cultural Center African Diaspora Institute invite you to a special community Watch Party of Bad Bunny’s final show of his residency in Puerto Rico—streamed live and free! \nProgram Schedule: \n\n6:00 PM | DJ/LIVE MUSIC\n7:00 PM | DANCE CLASS – SALSA\n8:30 PM | CONCERT SCREENING\n\nCome experience this landmark concert together with friends\, neighbors\, and fellow fans—right here in East Harlem. Let’s celebrate music\, culture\, and community in the heart of El Barrio. \nAdmission is free – registration is required. Space is limited\, so reserve your spot today (first come\, first served). \nWe’re grateful to CENTRO—the Center for Puerto Rican Studies at Hunter College—for providing water\, soda\, and sparkling water for all attendees. \nRegister here >. \n 
URL:https://elmuseo.org/event/bad-bunnys-no-me-quiero-ir-de-aqui-watch-party/
LOCATION:El Museo del Barrio\, 1230 Fifth Avenue\, New York\, NY\, 10029\, United States
ATTACH;FMTTYPE=image/png:https://elmuseo.org/wp-content/uploads/2025/09/Bad-Bunny-Event-Graphics-1800-x-900.png
END:VEVENT
END:VCALENDAR