BEGIN:VCALENDAR
VERSION:2.0
PRODID:-//El Museo del Barrio - ECPv6.15.17.1//NONSGML v1.0//EN
CALSCALE:GREGORIAN
METHOD:PUBLISH
X-WR-CALNAME:El Museo del Barrio
X-ORIGINAL-URL:https://elmuseo.org
X-WR-CALDESC:Events for El Museo del Barrio
REFRESH-INTERVAL;VALUE=DURATION:PT1H
X-Robots-Tag:noindex
X-PUBLISHED-TTL:PT1H
BEGIN:VTIMEZONE
TZID:America/New_York
BEGIN:DAYLIGHT
TZOFFSETFROM:-0500
TZOFFSETTO:-0400
TZNAME:EDT
DTSTART:20190310T070000
END:DAYLIGHT
BEGIN:STANDARD
TZOFFSETFROM:-0400
TZOFFSETTO:-0500
TZNAME:EST
DTSTART:20191103T060000
END:STANDARD
BEGIN:DAYLIGHT
TZOFFSETFROM:-0500
TZOFFSETTO:-0400
TZNAME:EDT
DTSTART:20200308T070000
END:DAYLIGHT
BEGIN:STANDARD
TZOFFSETFROM:-0400
TZOFFSETTO:-0500
TZNAME:EST
DTSTART:20201101T060000
END:STANDARD
BEGIN:DAYLIGHT
TZOFFSETFROM:-0500
TZOFFSETTO:-0400
TZNAME:EDT
DTSTART:20210314T070000
END:DAYLIGHT
BEGIN:STANDARD
TZOFFSETFROM:-0400
TZOFFSETTO:-0500
TZNAME:EST
DTSTART:20211107T060000
END:STANDARD
END:VTIMEZONE
BEGIN:VEVENT
DTSTART;TZID=America/New_York:20201205T110000
DTEND;TZID=America/New_York:20201205T114500
DTSTAMP:20260423T202106
CREATED:20200826T190533Z
LAST-MODIFIED:20200826T190533Z
UID:30803-1607166000-1607168700@elmuseo.org
SUMMARY:COQUÍ CLUB | Hello Winter!
DESCRIPTION:Hola Coquís! El Museo is excited to bring Coquí Club\, our bilingual program for our tiniest visitors\, into your casita. Coquí Club Is a live\, interactive program facilitated by our museum educators and includes storytelling\, discussion and an art making project. \nJoin us as we explore the change in seasons\, and welcome winter! We will discuss life in New York City during the winter season and the painting Central Park/New York\, c. 1945 by Djanira da Motta e Silva\, featured in the exhibition\, Popular Painters & Other Visionaries. \nFREE ADMISSION | To RSVP\, click here.\n(Registration closes at 10am on December 5th. Instructions to log on will be sent via email to registrants prior to the event.) \nThis program is a part of El Museo en Tu Casa\, our new bilingual digital initiative encouraging visitors to explore and learn about Latino art and culture. Generously supported by Tony Bechara and the Board of Trustees\, the Census 2020\, and the NYC COVID-19 Response & Impact Fund.
URL:https://elmuseo.org/event/cc-dec-5/
LOCATION:Zoom LIVE
ATTACH;FMTTYPE=image/jpeg:https://elmuseo.org/wp-content/uploads/2020/08/big-coqui.jpg
END:VEVENT
END:VCALENDAR