BEGIN:VCALENDAR
VERSION:2.0
PRODID:-//El Museo del Barrio - ECPv6.15.17.1//NONSGML v1.0//EN
CALSCALE:GREGORIAN
METHOD:PUBLISH
X-WR-CALNAME:El Museo del Barrio
X-ORIGINAL-URL:https://elmuseo.org
X-WR-CALDESC:Events for El Museo del Barrio
REFRESH-INTERVAL;VALUE=DURATION:PT1H
X-Robots-Tag:noindex
X-PUBLISHED-TTL:PT1H
BEGIN:VTIMEZONE
TZID:America/New_York
BEGIN:DAYLIGHT
TZOFFSETFROM:-0500
TZOFFSETTO:-0400
TZNAME:EDT
DTSTART:20200308T070000
END:DAYLIGHT
BEGIN:STANDARD
TZOFFSETFROM:-0400
TZOFFSETTO:-0500
TZNAME:EST
DTSTART:20201101T060000
END:STANDARD
BEGIN:DAYLIGHT
TZOFFSETFROM:-0500
TZOFFSETTO:-0400
TZNAME:EDT
DTSTART:20210314T070000
END:DAYLIGHT
BEGIN:STANDARD
TZOFFSETFROM:-0400
TZOFFSETTO:-0500
TZNAME:EST
DTSTART:20211107T060000
END:STANDARD
BEGIN:DAYLIGHT
TZOFFSETFROM:-0500
TZOFFSETTO:-0400
TZNAME:EDT
DTSTART:20220313T070000
END:DAYLIGHT
BEGIN:STANDARD
TZOFFSETFROM:-0400
TZOFFSETTO:-0500
TZNAME:EST
DTSTART:20221106T060000
END:STANDARD
END:VTIMEZONE
BEGIN:VEVENT
DTSTART;TZID=America/New_York:20210428T180000
DTEND;TZID=America/New_York:20210428T190000
DTSTAMP:20260423T052124
CREATED:20210409T161347Z
LAST-MODIFIED:20210409T161347Z
UID:33790-1619632800-1619636400@elmuseo.org
SUMMARY:La Trienal Talks - CRAFT
DESCRIPTION:Join Justin Favela\, Yvette Mayorga\, and Dionis Ortiz for the first in a series of conversations that bring together participating artists from ESTAMOS BIEN – LA TRIENAL 20/21 . Moderated by Curator Susanna V. Temkin\, the artists will discuss how their practices engage\, subvert\, and build upon legacies of craft\, decorative arts\, and other vernacular languages. Addressing Mayorga’s pasteleria-influenced paintings\, Favela’s piñata murals\, and Ortiz’s large-scale sculptural installations repurposing flooring materials\, the conversation will address notions of labor\, gender\, and domesticity in their works on view at El Museo. \nFREE via Zoom LIVE | To RSVP\, click here. \nESTAMOS BIEN – LA TRIENAL 20/21 is made possible by The Jacques & Natasha Gelman Foundation. Leadership support is provided by The Rockefeller Brothers Fund. Commissioned works are made possible by Tony Bechara. Major funding is provided by Morgan Stanley and The Lenore G. Tawney Foundation. Generous funding is provided by The Cowles Charitable Trust and La Trienal Council: Craig Robins and Jackie Soffer\, Estrellita and Daniel Brodsky and The Jorge M. Pérez Family Foundation at The Miami Foundation. Additional support is provided by The El Museo Fund. \n  \n 
URL:https://elmuseo.org/event/lt-craft/
LOCATION:Zoom LIVE
ATTACH;FMTTYPE=image/png:https://elmuseo.org/wp-content/uploads/2021/04/Untitled-design.png
END:VEVENT
END:VCALENDAR