BEGIN:VCALENDAR
VERSION:2.0
PRODID:-//El Museo del Barrio - ECPv6.15.17.1//NONSGML v1.0//EN
CALSCALE:GREGORIAN
METHOD:PUBLISH
X-WR-CALNAME:El Museo del Barrio
X-ORIGINAL-URL:https://elmuseo.org
X-WR-CALDESC:Events for El Museo del Barrio
REFRESH-INTERVAL;VALUE=DURATION:PT1H
X-Robots-Tag:noindex
X-PUBLISHED-TTL:PT1H
BEGIN:VTIMEZONE
TZID:America/New_York
BEGIN:DAYLIGHT
TZOFFSETFROM:-0500
TZOFFSETTO:-0400
TZNAME:EDT
DTSTART:20200308T070000
END:DAYLIGHT
BEGIN:STANDARD
TZOFFSETFROM:-0400
TZOFFSETTO:-0500
TZNAME:EST
DTSTART:20201101T060000
END:STANDARD
BEGIN:DAYLIGHT
TZOFFSETFROM:-0500
TZOFFSETTO:-0400
TZNAME:EDT
DTSTART:20210314T070000
END:DAYLIGHT
BEGIN:STANDARD
TZOFFSETFROM:-0400
TZOFFSETTO:-0500
TZNAME:EST
DTSTART:20211107T060000
END:STANDARD
BEGIN:DAYLIGHT
TZOFFSETFROM:-0500
TZOFFSETTO:-0400
TZNAME:EDT
DTSTART:20220313T070000
END:DAYLIGHT
BEGIN:STANDARD
TZOFFSETFROM:-0400
TZOFFSETTO:-0500
TZNAME:EST
DTSTART:20221106T060000
END:STANDARD
END:VTIMEZONE
BEGIN:VEVENT
DTSTART;TZID=America/New_York:20210619T140000
DTEND;TZID=America/New_York:20210619T180000
DTSTAMP:20260419T202943
CREATED:20210609T161617Z
LAST-MODIFIED:20210609T161617Z
UID:34163-1624111200-1624125600@elmuseo.org
SUMMARY:SUPER SÁBADO | Celebrate Afro Caribbean Joy + Resilience
DESCRIPTION:El Museo del Barrio is going to Brooklyn! This Juneteenth\, in celebration of the joy and resilience of the African diaspora in the US\, join us for our first in-person Super Sabado\, featuring roller-skating presented by Butter Roll; an art-making workshop centered on printmaking\, collage and African textile patterns; a samba reggae lesson led by Calvin Aragon; and music by DJ’s Ultraviolet\, Nina Vicious\, and Bembona. All ages welcomed. Rain or shine. \nJuneteenth\, short for June 19th\, is a special day that commemorates the emancipation of enslaved people in the US. As a community-centered organization\, we have a role in uplifting black communities\, as well as confronting pervasive anti-blackness that exists in Latinx culture. This event aims to demonstrate solidarity\, amplify joy\, and celebrate the resilience of the Black community. On this day\, we enter the space through a series of activities that pay homage to the cultural legacy of the African diaspora. We hope you can join us! \nFREE ADMISSION | To RSVP\, click here.  \n\nSCHEDULE OF EVENTS \nArt Making Workshop | Taller de Arte\nESTAMOS BIEN | 2:15 – 3:15pm\nInspired by El Museo’s exhibition ESTAMOS BIEN – LA TRIENAL 20/21\, explore printmaking\, collage and African textile patterns\, and create your own work of art.\nInspirado en la exhibición ESTAMOS BIEN – LA TRIENAL 20/21\, explora grabados\, collage\, y patrones textiles Africanos y crea tu propia obra de arte. \nMusic | Musica\nRESILIENT BEATS | All Day\nMueve el esqueleto with DJ’s Ultraviolet\, Nina Vicious\, and Bembona as they bring joy with their unique blend of beats.\nLas DJs Ultraviolet\, Nina Vicious\, and Bembona traerán felicidad con sus únicas mezclas de ritmos. \nDance Workshop | Taller de Baile\nRHYTHM & JOY | 2:30pm & 3:30pm\nMove your body! El Puente in collaboration with CADRE (Community Artists’ Development & Resource Exchange) present a samba reggae lesson led by Calvin Aragon.\nDale movimiento a tu cuerpo! Nuestro amigos en El Puente\, en colaboración con CADRE facilitarán un taller de Samba Reggae a cargo de Calvin Aragón. \nRoller-Skating | Patinaje sobre ruedas\nSKATE REMIX | 3-4pm (Family) & 4-6m (Open)\nDip\, spin\, and scissor with Butter Roll\, a social enterprise focused on BIPOC wellness through roller skating and the arts\, for an afternoon of self-care and wellness! Free skate rentals available by Skaterobics on a first come\, first serve basis. Please bring socks. Protective gear recommended\, but not provided.\nÚnete y haz trucos sobre ruedas junto a Butter Roll para celebrar una tarde de auto-cuidado y bienestar. Habrán patines gratis disponibles para rentar a cargo de Skaterobics. Disponibilidad sugeta a orden de llegada. Favor de traer calcetines. Se recomienda equipo de protección\, pero no proporcionado. \nEl Museo Health & Safety Guidelines (as of 05/20/2021)\nTo ensure the health and safety of our visitors and staff\, and to improve your experience at the Museum\, please see below health and safety guidelines to consider during your next visit. For more info\, click here. \nFor Outdoor In-Person programs: Face coverings are strongly recommended for all adults and children over the age of 2. Social distancing is encouraged\, whenever possible. \nAbout El Puente\nEl Puente is a community human rights institution that promotes leadership for peace and justice through the engagement of members (youth and adult) in the arts\, education\, scientific research\, wellness and environmental action. Founded in 1982 by Luis Garden Acosta\, El Puente currently integrates the diverse activities and community campaigns of its Center for Arts and Culture and its Community Health and Environment Institute (CHE) within its three neighborhood Leadership Centers and its nationally recognized public high school\, the El Puente Academy for Peace and Justice. Organizing in North Brooklyn and beyond\, El Puente remains at the forefront of community/youth learning and development issues and as such\, initiates and impacts social policy both locally and nationally. \nAbout Club Butter Roll\nA New York social enterprise focused on BIPOC wellness through roller skating and the arts. \nThis program is a part of El Museo en Tu Casa\, our new bilingual digital initiative encouraging visitors to explore and learn about Latino art and culture. Generously supported by Tony Bechara and the Board of Trustees\, and the NYC COVID-19 Response & Impact Fund. \nPhotos Courtesy of Mario Ruben
URL:https://elmuseo.org/event/ss-june-19/
LOCATION:Hope Gardens Community Center\, 422 Central Avenue\, Brooklyn\, NY\, 11237\, United States
ATTACH;FMTTYPE=image/png:https://elmuseo.org/wp-content/uploads/2021/06/BROLL.png
END:VEVENT
END:VCALENDAR