BEGIN:VCALENDAR
VERSION:2.0
PRODID:-//El Museo del Barrio - ECPv6.15.17.1//NONSGML v1.0//EN
CALSCALE:GREGORIAN
METHOD:PUBLISH
X-WR-CALNAME:El Museo del Barrio
X-ORIGINAL-URL:https://elmuseo.org
X-WR-CALDESC:Events for El Museo del Barrio
REFRESH-INTERVAL;VALUE=DURATION:PT1H
X-Robots-Tag:noindex
X-PUBLISHED-TTL:PT1H
BEGIN:VTIMEZONE
TZID:America/New_York
BEGIN:DAYLIGHT
TZOFFSETFROM:-0500
TZOFFSETTO:-0400
TZNAME:EDT
DTSTART:20230312T070000
END:DAYLIGHT
BEGIN:STANDARD
TZOFFSETFROM:-0400
TZOFFSETTO:-0500
TZNAME:EST
DTSTART:20231105T060000
END:STANDARD
BEGIN:DAYLIGHT
TZOFFSETFROM:-0500
TZOFFSETTO:-0400
TZNAME:EDT
DTSTART:20240310T070000
END:DAYLIGHT
BEGIN:STANDARD
TZOFFSETFROM:-0400
TZOFFSETTO:-0500
TZNAME:EST
DTSTART:20241103T060000
END:STANDARD
BEGIN:DAYLIGHT
TZOFFSETFROM:-0500
TZOFFSETTO:-0400
TZNAME:EDT
DTSTART:20250309T070000
END:DAYLIGHT
BEGIN:STANDARD
TZOFFSETFROM:-0400
TZOFFSETTO:-0500
TZNAME:EST
DTSTART:20251102T060000
END:STANDARD
END:VTIMEZONE
BEGIN:VEVENT
DTSTART;TZID=America/New_York:20240518T120000
DTEND;TZID=America/New_York:20240518T170000
DTSTAMP:20260422T061646
CREATED:20240402T141103Z
LAST-MODIFIED:20240502T144127Z
UID:48503-1716033600-1716051600@elmuseo.org
SUMMARY:Super Sábado: Recuerdos Familiares
DESCRIPTION:Join us to celebrate a day honoring the memories of our ancestors\, family traditions\, and the power of women storytellers\, inspired by the new exhibition\, Amalia Mesa-Bains: Archaeology of Memory\, a retrospective by the pioneering artist\, curator\, and theorist. Born in 1943 to a Mexican immigrant family\, Mesa-Bains is a leading figure in Chicanx art for nearly half a century\, producing work that explores intersectional feminist themes\, environmentally centered spirituality\, and cultural diversity. \nThroughout the day\, explore the exhibition with free gallery tours\, then meet us in the Cafe on 104th Street for art activities\, storytelling and dance workshops\, and more. \nThe block party will be followed by a concert presented in collaboration with Carnegie Hall City Wide Concert Series at 4pm in El Museo’s Teatro\, featuring Caña Dulce & Caña Brava. As beneficiaries of jarocho culture and noteworthy performers with years of experience on both national and international stages\, Caña Dulce y Caña Brava’s performances celebrate the music\, poetry\, dance and traditional attire of Veracruz\, Mexico. The group stands out as an artistic project that highlights feminine poetry and voices\, accompanied by traditional string instruments such as the harp and the jarana\, percussion and zapateado. \nAll ages welcome. Children must be accompanied by an adult. Pre-registration is advised; all activities are first come\, first served. \nFree Admission. | To RSVP\, click here. 
URL:https://elmuseo.org/event/super-sabado-recuerdos-familiares/
LOCATION:El Museo del Barrio\, 1230 Fifth Avenue\, New York\, NY\, 10029\, United States
ATTACH;FMTTYPE=image/jpeg:https://elmuseo.org/wp-content/uploads/2024/02/AMB-8.jpg
END:VEVENT
END:VCALENDAR