BEGIN:VCALENDAR
VERSION:2.0
PRODID:-//El Museo del Barrio - ECPv6.15.17.1//NONSGML v1.0//EN
CALSCALE:GREGORIAN
METHOD:PUBLISH
X-WR-CALNAME:El Museo del Barrio
X-ORIGINAL-URL:https://elmuseo.org
X-WR-CALDESC:Events for El Museo del Barrio
REFRESH-INTERVAL;VALUE=DURATION:PT1H
X-Robots-Tag:noindex
X-PUBLISHED-TTL:PT1H
BEGIN:VTIMEZONE
TZID:America/New_York
BEGIN:DAYLIGHT
TZOFFSETFROM:-0500
TZOFFSETTO:-0400
TZNAME:EDT
DTSTART:20220313T070000
END:DAYLIGHT
BEGIN:STANDARD
TZOFFSETFROM:-0400
TZOFFSETTO:-0500
TZNAME:EST
DTSTART:20221106T060000
END:STANDARD
BEGIN:DAYLIGHT
TZOFFSETFROM:-0500
TZOFFSETTO:-0400
TZNAME:EDT
DTSTART:20230312T070000
END:DAYLIGHT
BEGIN:STANDARD
TZOFFSETFROM:-0400
TZOFFSETTO:-0500
TZNAME:EST
DTSTART:20231105T060000
END:STANDARD
BEGIN:DAYLIGHT
TZOFFSETFROM:-0500
TZOFFSETTO:-0400
TZNAME:EDT
DTSTART:20240310T070000
END:DAYLIGHT
BEGIN:STANDARD
TZOFFSETFROM:-0400
TZOFFSETTO:-0500
TZNAME:EST
DTSTART:20241103T060000
END:STANDARD
END:VTIMEZONE
BEGIN:VEVENT
DTSTART;TZID=America/New_York:20230211T130000
DTEND;TZID=America/New_York:20230211T140000
DTSTAMP:20260421T221243
CREATED:20230118T203707Z
LAST-MODIFIED:20230118T203707Z
UID:38283-1676120400-1676124000@elmuseo.org
SUMMARY:Exhibition Tour: DOMESTICANX
DESCRIPTION:Join El Museo’s Museum Educators on a free gallery tour to explore and discuss the on-view exhibition\, DOMESTICANX\, a group exhibition that explores the concept of “domesticana\,” first theorized by artist\, scholar\, and critic Amalia Mesa-Bains in the 1990s. \nFree with Museum admission. Capacity is limited to 25 people\, first come\, first served. Tours meet in the Museum lobby. All ages welcome. *Tours are subject to change or cancellation.
URL:https://elmuseo.org/event/tour-dx-02-11/
LOCATION:El Museo del Barrio\, 1230 Fifth Avenue\, New York\, NY\, 10029\, United States
ATTACH;FMTTYPE=image/png:https://elmuseo.org/wp-content/uploads/2023/01/Untitled-252.png
END:VEVENT
END:VCALENDAR